BEGIN:VCALENDAR
VERSION:2.0
PRODID:-// - ECPv6.15.20//NONSGML v1.0//EN
CALSCALE:GREGORIAN
METHOD:PUBLISH
X-ORIGINAL-URL:https://www.oklahomalimousin.com
X-WR-CALDESC:Events for 
REFRESH-INTERVAL;VALUE=DURATION:PT1H
X-Robots-Tag:noindex
X-PUBLISHED-TTL:PT1H
BEGIN:VTIMEZONE
TZID:America/Chicago
BEGIN:DAYLIGHT
TZOFFSETFROM:-0600
TZOFFSETTO:-0500
TZNAME:CDT
DTSTART:20220313T080000
END:DAYLIGHT
BEGIN:STANDARD
TZOFFSETFROM:-0500
TZOFFSETTO:-0600
TZNAME:CST
DTSTART:20221106T070000
END:STANDARD
BEGIN:DAYLIGHT
TZOFFSETFROM:-0600
TZOFFSETTO:-0500
TZNAME:CDT
DTSTART:20230312T080000
END:DAYLIGHT
BEGIN:STANDARD
TZOFFSETFROM:-0500
TZOFFSETTO:-0600
TZNAME:CST
DTSTART:20231105T070000
END:STANDARD
BEGIN:DAYLIGHT
TZOFFSETFROM:-0600
TZOFFSETTO:-0500
TZNAME:CDT
DTSTART:20240310T080000
END:DAYLIGHT
BEGIN:STANDARD
TZOFFSETFROM:-0500
TZOFFSETTO:-0600
TZNAME:CST
DTSTART:20241103T070000
END:STANDARD
END:VTIMEZONE
BEGIN:VEVENT
DTSTART;VALUE=DATE:20230711
DTEND;VALUE=DATE:20230712
DTSTAMP:20260425T085157
CREATED:20230405T144530Z
LAST-MODIFIED:20230405T144532Z
UID:1060-1689033600-1689119999@www.oklahomalimousin.com
SUMMARY:NJLSC Bred and Owned Limousin & Lim-Flex Female Show
DESCRIPTION:
URL:https://www.oklahomalimousin.com/event/njlsc-bred-and-owned-limousin-lim-flex-female-show/
LOCATION:Rapid City\, SD
END:VEVENT
BEGIN:VEVENT
DTSTART;VALUE=DATE:20230711
DTEND;VALUE=DATE:20230712
DTSTAMP:20260425T085157
CREATED:20230405T144652Z
LAST-MODIFIED:20230405T144654Z
UID:1062-1689033600-1689119999@www.oklahomalimousin.com
SUMMARY:NJLSC Bred and Owned Limousin & Lim-Flex Bull Show
DESCRIPTION:
URL:https://www.oklahomalimousin.com/event/njlsc-bred-and-owned-limousin-lim-flex-bull-show/
LOCATION:Rapid City\, SD
END:VEVENT
BEGIN:VEVENT
DTSTART;VALUE=DATE:20230711
DTEND;VALUE=DATE:20230712
DTSTAMP:20260425T085157
CREATED:20230405T144748Z
LAST-MODIFIED:20230405T144756Z
UID:1064-1689033600-1689119999@www.oklahomalimousin.com
SUMMARY:NJLSC Limousin & Lim-Flex Cow-Calf Pair Show
DESCRIPTION:
URL:https://www.oklahomalimousin.com/event/njlsc-limousin-lim-flex-cow-calf-pair-show/
LOCATION:Rapid City\, SD
END:VEVENT
BEGIN:VEVENT
DTSTART;VALUE=DATE:20230711
DTEND;VALUE=DATE:20230712
DTSTAMP:20260425T085157
CREATED:20230405T144859Z
LAST-MODIFIED:20230405T144901Z
UID:1066-1689033600-1689119999@www.oklahomalimousin.com
SUMMARY:NJLSC Steer Show
DESCRIPTION:
URL:https://www.oklahomalimousin.com/event/njlsc-steer-show/
LOCATION:Rapid City\, SD
END:VEVENT
BEGIN:VEVENT
DTSTART;VALUE=DATE:20230711
DTEND;VALUE=DATE:20230712
DTSTAMP:20260425T085157
CREATED:20230405T144949Z
LAST-MODIFIED:20230405T145439Z
UID:1068-1689033600-1689119999@www.oklahomalimousin.com
SUMMARY:NJLSC NEOGEN Ultimate Show
DESCRIPTION:
URL:https://www.oklahomalimousin.com/event/njlsc-neogen-ultimate-show/
LOCATION:Rapid City\, SD
END:VEVENT
BEGIN:VEVENT
DTSTART;VALUE=DATE:20230711
DTEND;VALUE=DATE:20230712
DTSTAMP:20260425T085157
CREATED:20230405T145026Z
LAST-MODIFIED:20230405T145028Z
UID:1070-1689033600-1689119999@www.oklahomalimousin.com
SUMMARY:Sale of Sales
DESCRIPTION:
URL:https://www.oklahomalimousin.com/event/sale-of-sales/
LOCATION:Rapid City\, SD
END:VEVENT
BEGIN:VEVENT
DTSTART;VALUE=DATE:20230711
DTEND;VALUE=DATE:20230712
DTSTAMP:20260425T085157
CREATED:20230405T145153Z
LAST-MODIFIED:20230405T145155Z
UID:1072-1689033600-1689119999@www.oklahomalimousin.com
SUMMARY:NALF Hall of Fame Induction Ceremony
DESCRIPTION:
URL:https://www.oklahomalimousin.com/event/nalf-hall-of-fame-induction-ceremony/
LOCATION:Rapid City\, SD
END:VEVENT
BEGIN:VEVENT
DTSTART;VALUE=DATE:20230713
DTEND;VALUE=DATE:20230714
DTSTAMP:20260425T085157
CREATED:20230405T144303Z
LAST-MODIFIED:20230405T145645Z
UID:1055-1689206400-1689292799@www.oklahomalimousin.com
SUMMARY:NJLSC Owned Limousin Female Show
DESCRIPTION:
URL:https://www.oklahomalimousin.com/event/njlsc-owned-limousin-female-show/
LOCATION:Rapid City\, SD
END:VEVENT
BEGIN:VEVENT
DTSTART;VALUE=DATE:20230713
DTEND;VALUE=DATE:20230714
DTSTAMP:20260425T085157
CREATED:20230405T144423Z
LAST-MODIFIED:20230405T144426Z
UID:1058-1689206400-1689292799@www.oklahomalimousin.com
SUMMARY:NJLSC Owned Lim-Flex Female Show
DESCRIPTION:
URL:https://www.oklahomalimousin.com/event/njlsc-owned-lim-flex-female-show/
LOCATION:Rapid City\, SD
END:VEVENT
END:VCALENDAR