BEGIN:VCALENDAR
VERSION:2.0
PRODID:-// - ECPv6.15.20//NONSGML v1.0//EN
CALSCALE:GREGORIAN
METHOD:PUBLISH
X-ORIGINAL-URL:https://www.oklahomalimousin.com
X-WR-CALDESC:Events for 
REFRESH-INTERVAL;VALUE=DURATION:PT1H
X-Robots-Tag:noindex
X-PUBLISHED-TTL:PT1H
BEGIN:VTIMEZONE
TZID:America/Chicago
BEGIN:DAYLIGHT
TZOFFSETFROM:-0600
TZOFFSETTO:-0500
TZNAME:CDT
DTSTART:20170312T080000
END:DAYLIGHT
BEGIN:STANDARD
TZOFFSETFROM:-0500
TZOFFSETTO:-0600
TZNAME:CST
DTSTART:20171105T070000
END:STANDARD
BEGIN:DAYLIGHT
TZOFFSETFROM:-0600
TZOFFSETTO:-0500
TZNAME:CDT
DTSTART:20180311T080000
END:DAYLIGHT
BEGIN:STANDARD
TZOFFSETFROM:-0500
TZOFFSETTO:-0600
TZNAME:CST
DTSTART:20181104T070000
END:STANDARD
BEGIN:DAYLIGHT
TZOFFSETFROM:-0600
TZOFFSETTO:-0500
TZNAME:CDT
DTSTART:20190310T080000
END:DAYLIGHT
BEGIN:STANDARD
TZOFFSETFROM:-0500
TZOFFSETTO:-0600
TZNAME:CST
DTSTART:20191103T070000
END:STANDARD
BEGIN:DAYLIGHT
TZOFFSETFROM:-0600
TZOFFSETTO:-0500
TZNAME:CDT
DTSTART:20200308T080000
END:DAYLIGHT
BEGIN:STANDARD
TZOFFSETFROM:-0500
TZOFFSETTO:-0600
TZNAME:CST
DTSTART:20201101T070000
END:STANDARD
BEGIN:DAYLIGHT
TZOFFSETFROM:-0600
TZOFFSETTO:-0500
TZNAME:CDT
DTSTART:20210314T080000
END:DAYLIGHT
BEGIN:STANDARD
TZOFFSETFROM:-0500
TZOFFSETTO:-0600
TZNAME:CST
DTSTART:20211107T070000
END:STANDARD
BEGIN:DAYLIGHT
TZOFFSETFROM:-0600
TZOFFSETTO:-0500
TZNAME:CDT
DTSTART:20220313T080000
END:DAYLIGHT
BEGIN:STANDARD
TZOFFSETFROM:-0500
TZOFFSETTO:-0600
TZNAME:CST
DTSTART:20221106T070000
END:STANDARD
BEGIN:DAYLIGHT
TZOFFSETFROM:-0600
TZOFFSETTO:-0500
TZNAME:CDT
DTSTART:20230312T080000
END:DAYLIGHT
BEGIN:STANDARD
TZOFFSETFROM:-0500
TZOFFSETTO:-0600
TZNAME:CST
DTSTART:20231105T070000
END:STANDARD
BEGIN:DAYLIGHT
TZOFFSETFROM:-0600
TZOFFSETTO:-0500
TZNAME:CDT
DTSTART:20240310T080000
END:DAYLIGHT
BEGIN:STANDARD
TZOFFSETFROM:-0500
TZOFFSETTO:-0600
TZNAME:CST
DTSTART:20241103T070000
END:STANDARD
END:VTIMEZONE
BEGIN:VEVENT
DTSTART;VALUE=DATE:20230104
DTEND;VALUE=DATE:20230105
DTSTAMP:20260423T190602
CREATED:20221212T174321Z
LAST-MODIFIED:20221212T174324Z
UID:1037-1672790400-1672876799@www.oklahomalimousin.com
SUMMARY:Cattlemen's Congress National Limousin Open Show
DESCRIPTION:
URL:https://www.oklahomalimousin.com/event/cattlemens-congress-national-limousin-open-show/
LOCATION:Oklahoma City\, OK\, Oklahoma City\, OK\, United States
CATEGORIES:Shows
END:VEVENT
BEGIN:VEVENT
DTSTART;VALUE=DATE:20230103
DTEND;VALUE=DATE:20230104
DTSTAMP:20260423T190602
CREATED:20221212T174245Z
LAST-MODIFIED:20221212T174246Z
UID:1035-1672704000-1672790399@www.oklahomalimousin.com
SUMMARY:Cattlemen's Congress National Limousin Bull Pen Show
DESCRIPTION:
URL:https://www.oklahomalimousin.com/event/cattlemens-congress-national-limousin-bull-pen-show/
LOCATION:Oklahoma City\, OK\, Oklahoma City\, OK\, United States
CATEGORIES:Shows
END:VEVENT
BEGIN:VEVENT
DTSTART;VALUE=DATE:20230103
DTEND;VALUE=DATE:20230104
DTSTAMP:20260423T190602
CREATED:20221212T174200Z
LAST-MODIFIED:20221212T174203Z
UID:1033-1672704000-1672790399@www.oklahomalimousin.com
SUMMARY:Cattlemen's Congress Junior Limousin Heifer Show
DESCRIPTION:
URL:https://www.oklahomalimousin.com/event/cattlemens-congress-junior-limousin-heifer-show/
LOCATION:Oklahoma City\, OK\, Oklahoma City\, OK\, United States
CATEGORIES:Shows
END:VEVENT
BEGIN:VEVENT
DTSTART;VALUE=DATE:20220915
DTEND;VALUE=DATE:20220926
DTSTAMP:20260423T190602
CREATED:20220221T150155Z
LAST-MODIFIED:20220221T150159Z
UID:861-1663200000-1664150399@www.oklahomalimousin.com
SUMMARY:Oklahoma State Fair
DESCRIPTION:
URL:https://www.oklahomalimousin.com/event/oklahoma-state-fair/
LOCATION:Oklahoma State Fairgrounds\, Oklahoma City\, OK
CATEGORIES:Shows
END:VEVENT
BEGIN:VEVENT
DTSTART;VALUE=DATE:20220625
DTEND;VALUE=DATE:20220701
DTSTAMP:20260423T190602
CREATED:20220221T145953Z
LAST-MODIFIED:20220221T150005Z
UID:858-1656115200-1656633599@www.oklahomalimousin.com
SUMMARY:National Junior Limousin Show and Congress
DESCRIPTION:
URL:https://www.oklahomalimousin.com/event/national-junior-limousin-show-and-congress/
LOCATION:Amarillo\, TX
CATEGORIES:Shows
END:VEVENT
BEGIN:VEVENT
DTSTART;VALUE=DATE:20220602
DTEND;VALUE=DATE:20220605
DTSTAMP:20260423T190602
CREATED:20220221T145637Z
LAST-MODIFIED:20220221T164500Z
UID:856-1654128000-1654387199@www.oklahomalimousin.com
SUMMARY:12th Annual Ron Wayland Memorial Limousin Field Day
DESCRIPTION:
URL:https://www.oklahomalimousin.com/event/12th-annual-ron-wayland-memorial-limousin-field-day/
LOCATION:Stillwater\, OK
CATEGORIES:Shows
END:VEVENT
BEGIN:VEVENT
DTSTART;VALUE=DATE:20220311
DTEND;VALUE=DATE:20220315
DTSTAMP:20260423T190602
CREATED:20220221T145240Z
LAST-MODIFIED:20220221T151612Z
UID:854-1646956800-1647302399@www.oklahomalimousin.com
SUMMARY:Oklahoma Youth Expo
DESCRIPTION:
URL:https://www.oklahomalimousin.com/event/oklahoma-youth-expo/
LOCATION:Oklahoma State Fairgrounds\, Oklahoma City\, OK
CATEGORIES:Shows
END:VEVENT
BEGIN:VEVENT
DTSTART;VALUE=DATE:20210603
DTEND;VALUE=DATE:20210606
DTSTAMP:20260423T190602
CREATED:20210405T193653Z
LAST-MODIFIED:20210405T210805Z
UID:793-1622678400-1622937599@www.oklahomalimousin.com
SUMMARY:11th Annual Ron Wayland Memorial Limousin Field Day
DESCRIPTION:Download Schedule & Details
URL:https://www.oklahomalimousin.com/event/11th-annual-ron-wayland-memorial-limousin-field-day/
LOCATION:Payne County Expo Center\, Stillwater\, OK\, 4518 Expo Circle E.\, Stillwater\, OK\, 74075\, United States
CATEGORIES:Shows
END:VEVENT
BEGIN:VEVENT
DTSTART;VALUE=DATE:20200627
DTEND;VALUE=DATE:20200704
DTSTAMP:20260423T190602
CREATED:20200102T020726Z
LAST-MODIFIED:20200102T020726Z
UID:702-1593216000-1593820799@www.oklahomalimousin.com
SUMMARY:2020 National Junior Limousin Show & Congress
DESCRIPTION:
URL:https://www.oklahomalimousin.com/event/2020-national-junior-limousin-show-congress/
LOCATION:West Monroe\, LA
CATEGORIES:Shows
END:VEVENT
BEGIN:VEVENT
DTSTART;VALUE=DATE:20200604
DTEND;VALUE=DATE:20200607
DTSTAMP:20260423T190602
CREATED:20200316T161917Z
LAST-MODIFIED:20200404T220107Z
UID:740-1591228800-1591487999@www.oklahomalimousin.com
SUMMARY:10th Annual Ron Wayland Memorial Limousin Field Day
DESCRIPTION:DOWNLOAD SCHEDULE & DETAILS
URL:https://www.oklahomalimousin.com/event/10th-annual-ron-wayland-memorial-limousin-field-day/
LOCATION:Payne County Expo Center\, Stillwater\, OK\, 4518 Expo Circle E.\, Stillwater\, OK\, 74075\, United States
CATEGORIES:Shows
END:VEVENT
BEGIN:VEVENT
DTSTART;VALUE=DATE:20200315
DTEND;VALUE=DATE:20200316
DTSTAMP:20260423T190602
CREATED:20200102T015950Z
LAST-MODIFIED:20200102T020251Z
UID:691-1584230400-1584316799@www.oklahomalimousin.com
SUMMARY:Oklahoma Youth Expo Limousin Heifer Show
DESCRIPTION:
URL:https://www.oklahomalimousin.com/event/oklahoma-youth-expo-limousin-heifer-show/
LOCATION:Oklahoma State Fairgrounds\, Oklahoma City\, OK
CATEGORIES:Shows
END:VEVENT
BEGIN:VEVENT
DTSTART;TZID=America/Chicago:20200115T090000
DTEND;TZID=America/Chicago:20200115T170000
DTSTAMP:20260423T190602
CREATED:20190514T150913Z
LAST-MODIFIED:20190514T151537Z
UID:602-1579078800-1579107600@www.oklahomalimousin.com
SUMMARY:National Western Stock Show Pen/Carload Shows
DESCRIPTION:
URL:https://www.oklahomalimousin.com/event/national-western-stock-show-pen-carload-shows/
LOCATION:Denver\, CO
CATEGORIES:Shows
END:VEVENT
BEGIN:VEVENT
DTSTART;TZID=America/Chicago:20200114T080000
DTEND;TZID=America/Chicago:20200114T170000
DTSTAMP:20260423T190602
CREATED:20190514T150443Z
LAST-MODIFIED:20190514T150443Z
UID:596-1578988800-1579021200@www.oklahomalimousin.com
SUMMARY:National Western Stock Show Junior & Open Limousin Shows
DESCRIPTION:
URL:https://www.oklahomalimousin.com/event/national-western-stock-show-junior-open-limousin-shows/
LOCATION:Denver\, CO
CATEGORIES:Shows
END:VEVENT
BEGIN:VEVENT
DTSTART;VALUE=DATE:20191117
DTEND;VALUE=DATE:20191118
DTSTAMP:20260423T190602
CREATED:20190516T194621Z
LAST-MODIFIED:20190516T194621Z
UID:608-1573948800-1574035199@www.oklahomalimousin.com
SUMMARY:NAILE Limousin Junior Show
DESCRIPTION:
URL:https://www.oklahomalimousin.com/event/naile-limousin-junior-show/
LOCATION:Louisville\, KY
CATEGORIES:Shows
END:VEVENT
BEGIN:VEVENT
DTSTART;VALUE=DATE:20191006
DTEND;VALUE=DATE:20191007
DTSTAMP:20260423T190602
CREATED:20190514T142551Z
LAST-MODIFIED:20190514T142551Z
UID:592-1570320000-1570406399@www.oklahomalimousin.com
SUMMARY:Tulsa State Fair Junior Limousin Show
DESCRIPTION:
URL:https://www.oklahomalimousin.com/event/tulsa-state-fair-junior-limousin-show/
LOCATION:Tulsa State Fairgrounds\, Tulsa\, OK
CATEGORIES:Shows
END:VEVENT
BEGIN:VEVENT
DTSTART;VALUE=DATE:20191002
DTEND;VALUE=DATE:20191003
DTSTAMP:20260423T190602
CREATED:20190514T142729Z
LAST-MODIFIED:20190514T143633Z
UID:594-1569974400-1570060799@www.oklahomalimousin.com
SUMMARY:Tulsa State Fair Junior Steer Show
DESCRIPTION:
URL:https://www.oklahomalimousin.com/event/tulsa-state-fair-junior-steer-show/
LOCATION:Tulsa State Fairgrounds\, Tulsa\, OK
CATEGORIES:Shows
END:VEVENT
BEGIN:VEVENT
DTSTART;VALUE=DATE:20190928
DTEND;VALUE=DATE:20190929
DTSTAMP:20260423T190602
CREATED:20190514T142504Z
LAST-MODIFIED:20190514T142504Z
UID:589-1569628800-1569715199@www.oklahomalimousin.com
SUMMARY:Tulsa State Fair Open Limousin Show
DESCRIPTION:
URL:https://www.oklahomalimousin.com/event/tulsa-state-fair-open-limousin-show-2/
LOCATION:Tulsa State Fairgrounds\, Tulsa\, OK
CATEGORIES:Shows
END:VEVENT
BEGIN:VEVENT
DTSTART;TZID=America/Chicago:20190705T080000
DTEND;TZID=America/Chicago:20190705T170000
DTSTAMP:20260423T190602
CREATED:20190514T140643Z
LAST-MODIFIED:20190514T142130Z
UID:572-1562313600-1562346000@www.oklahomalimousin.com
SUMMARY:All-American Limousin Futurity
DESCRIPTION:2019 All-American Limousin Futurity \nJudge:\nJonathan Perry\, Fayetteville\, TN \nFriday\, July 5\n8:00 a.m.     All-American Limousin Futurity
URL:https://www.oklahomalimousin.com/event/all-american-limousin-futurity/
LOCATION:Ozark Empire Fairgrounds\, Springfield\, MO
CATEGORIES:Shows
END:VEVENT
BEGIN:VEVENT
DTSTART;VALUE=DATE:20190628
DTEND;VALUE=DATE:20190706
DTSTAMP:20260423T190602
CREATED:20190514T140509Z
LAST-MODIFIED:20190514T141139Z
UID:568-1561680000-1562371199@www.oklahomalimousin.com
SUMMARY:National Junior Limousin Show & Congress
DESCRIPTION:2019 NJLSC Schedule\n**Schedule subject to change**\n \nJudges:\nTuesday Shows: Ryan Haefner\, IL\nWednesday Shows: Tim Fitzgerald\, PA\nShowmanship: Greg Wathall\, MO\n \nFriday\, June 28\nCattle allowed in tie-outs\nNo cattle or tack allowed in barns \nSaturday\, June 29\n8:00 a.m.      Move in/Set up\n3:00 p.m.      NALJA Board of Directors interviews at the fairgrounds \nSunday\, June 30\n7:30 a.m.     Church service\n8:00 a.m.     Check-in\n12:00 p.m.   State officers and advisors meeting\n1:00 p.m.     Limi-Boosters Beef Cook-Off\n4:00 p.m.     Sullivan Supply Stock Show U\n5:30 p.m.     Membership meeting\n6:30 p.m.     Opening ceremonies \nMonday\, July 1\n8:00 a.m.     Sullivan Supply/Stock Show U Sponsored Showmanship\n2:00 p.m.     Novice Quiz Bowl pre-lims\n3:00 p.m.     Junior Quiz Bowl pre-lims\n4:00 p.m.     Intermediate Quiz Bowl pre-lims\n5:00 p.m.     Senior Quiz Bowl pre-lims \nTuesday. July 2\n8:00 a.m.     Steers\, Bred & Owned Purebred Females\, Owned Lim-Flex Females; carcass contest following the show \nWednesday\, July 3\n8:00 a.m.     Limousin Cow-Calf Pairs\, Lim-Flex Cow- Calf Pairs\, Bred and Owned Lim-Flex Bulls\, Bred and Owned Purebred Bulls\, Bred and Owned Lim-Flex Females\, Owned Limousin Females\, Group Classes\n4:00 p.m.     Judging Contest\nFollowing judging contest: NALJA Kickball Classic sponsored by NALJA board \nThursday\, July 4\n10:00 a.m.   Sales Talk\n2:00 p.m.     Sullivan Supply/Stock Show U Sponsored Team Fitting\n4:00 p.m.     Quiz Bowl Finals\, NALJA Presidential Election immediately follows\n8:00 p.m.     Dance \nFriday\, July 5\n8:00 a.m.     All-American Limousin Futurity\n5:00 p.m.     NALJA Awards Ceremony in show ring
URL:https://www.oklahomalimousin.com/event/national-junior-limousin-show-congress/
LOCATION:Ozark Empire Fairgrounds\, Springfield\, MO
CATEGORIES:Shows
END:VEVENT
BEGIN:VEVENT
DTSTART;VALUE=DATE:20190614
DTEND;VALUE=DATE:20190616
DTSTAMP:20260423T190602
CREATED:20190426T155023Z
LAST-MODIFIED:20190514T135516Z
UID:547-1560470400-1560643199@www.oklahomalimousin.com
SUMMARY:OLBA's 9th Annual Ron Wayland Memorial Field Day
DESCRIPTION: 
URL:https://www.oklahomalimousin.com/event/olbas-ron-wayland-field-day/
LOCATION:Heart of Oklahoma Expo Center\, Shawnee\, OK\, 1700 W Independence St.\, Shawnee\, OK\, 74084
CATEGORIES:Shows
END:VEVENT
BEGIN:VEVENT
DTSTART;TZID=America/Chicago:20190609T090000
DTEND;TZID=America/Chicago:20190609T170000
DTSTAMP:20260423T190602
CREATED:20190514T140937Z
LAST-MODIFIED:20190514T140937Z
UID:578-1560070800-1560099600@www.oklahomalimousin.com
SUMMARY:Southeast Summer Classic MOE Show
DESCRIPTION:Judge:\nOpen Show – Andy Higgins\, Tenn. \nSunday\, June 9\n9 a.m.       Southeast Summer Classic Medal of Excellence (MOE) Level I Show
URL:https://www.oklahomalimousin.com/event/southeast-summer-classic-moe-show/
LOCATION:Tennessee Livestock Center\, Murfreesboro\, TN
CATEGORIES:Shows
END:VEVENT
BEGIN:VEVENT
DTSTART;TZID=America/Chicago:20190607T080000
DTEND;TZID=America/Chicago:20190608T170000
DTSTAMP:20260423T190602
CREATED:20190514T140836Z
LAST-MODIFIED:20190514T140836Z
UID:575-1559894400-1560013200@www.oklahomalimousin.com
SUMMARY:Eastern Regional Limousin Junior Show
DESCRIPTION:Judge:\nJunior Show – Will Coor\, Ohio \n\n\nFriday\, June 7\n9 a.m.       Tennessee Field Day\n11 a.m.      Cattle must be in place\n11 a.m.      Check-in\n2 p.m.       Junior activities\n6 p.m.       Dinner at the fairgrounds \nSaturday\, June 8\n9 a.m.       Eastern Regional Junior Limousin Show\n12 p.m.      Lunch at the fairgrounds\n3 p.m.       National Fullblood Show
URL:https://www.oklahomalimousin.com/event/eastern-regional-limousin-junior-show/
LOCATION:Tennessee Livestock Center\, Murfreesboro\, TN
CATEGORIES:Shows
END:VEVENT
BEGIN:VEVENT
DTSTART;VALUE=DATE:20190531
DTEND;VALUE=DATE:20190602
DTSTAMP:20260423T190602
CREATED:20190514T141320Z
LAST-MODIFIED:20190514T141538Z
UID:581-1559260800-1559433599@www.oklahomalimousin.com
SUMMARY:Heartland Regional Limousin Junior Show
DESCRIPTION:2019 Heartland Regional Junior Show \nThursday\, May 30\nCattle can arrive in tie-outs\nNO cattle allowed in barns \nFriday\, May 31\n11 a.m.      Cattle must be in place\n11 a.m.      Check- in\n12 p.m.      Lunch served at fairgrounds \n2 p.m.       Junior activities\n6 p.m.       Dinner sponsored by Heartland Limousin Association \nSaturday\, June 1\nBreakfast served at fairgrounds\n9 a.m.       Heartland Regional Junior Show\n12 p.m.     Lunch served at fairgrounds
URL:https://www.oklahomalimousin.com/event/heartland-regional-limousin-junior-show/
LOCATION:Westfair Fairgrounds\, Council Bluffs\, IA
CATEGORIES:Shows
END:VEVENT
BEGIN:VEVENT
DTSTART;VALUE=DATE:20190320
DTEND;VALUE=DATE:20190321
DTSTAMP:20260423T190602
CREATED:20180725T230206Z
LAST-MODIFIED:20180725T230206Z
UID:408-1553040000-1553126399@www.oklahomalimousin.com
SUMMARY:OYE Limousin Steer Show
DESCRIPTION:
URL:https://www.oklahomalimousin.com/event/oye-limousin-steer-show/
LOCATION:Oklahoma City\, OK\, Oklahoma City\, OK\, United States
CATEGORIES:Shows
END:VEVENT
BEGIN:VEVENT
DTSTART;VALUE=DATE:20190317
DTEND;VALUE=DATE:20190318
DTSTAMP:20260423T190602
CREATED:20180725T230129Z
LAST-MODIFIED:20180725T230129Z
UID:405-1552780800-1552867199@www.oklahomalimousin.com
SUMMARY:OYE Limousin Heifer Show
DESCRIPTION:
URL:https://www.oklahomalimousin.com/event/oye-limousin-heifer-show/
LOCATION:Oklahoma City\, OK\, Oklahoma City\, OK\, United States
CATEGORIES:Shows
END:VEVENT
BEGIN:VEVENT
DTSTART;VALUE=DATE:20181007
DTEND;VALUE=DATE:20181008
DTSTAMP:20260423T190602
CREATED:20180725T225832Z
LAST-MODIFIED:20180725T225832Z
UID:397-1538870400-1538956799@www.oklahomalimousin.com
SUMMARY:Tulsa State Fair Junior Limousin Heifer Show
DESCRIPTION:
URL:https://www.oklahomalimousin.com/event/tulsa-state-fair-junior-limousin-heifer-show/
LOCATION:Tulsa Fairgrounds\, Tulsa\, OK\, United States
CATEGORIES:Shows
END:VEVENT
BEGIN:VEVENT
DTSTART;VALUE=DATE:20181003
DTEND;VALUE=DATE:20181004
DTSTAMP:20260423T190602
CREATED:20180725T225524Z
LAST-MODIFIED:20180725T225524Z
UID:391-1538524800-1538611199@www.oklahomalimousin.com
SUMMARY:Tulsa State Fair Steer Show
DESCRIPTION:
URL:https://www.oklahomalimousin.com/event/tulsa-state-fair-steer-show/
LOCATION:Tulsa\, Tulsa\, OK\, United States
CATEGORIES:Shows
END:VEVENT
BEGIN:VEVENT
DTSTART;VALUE=DATE:20180929
DTEND;VALUE=DATE:20180930
DTSTAMP:20260423T190602
CREATED:20180725T225415Z
LAST-MODIFIED:20180725T225742Z
UID:388-1538179200-1538265599@www.oklahomalimousin.com
SUMMARY:Tulsa State Fair Open Limousin Show
DESCRIPTION:
URL:https://www.oklahomalimousin.com/event/tulsa-state-fair-open-limousin-show/
LOCATION:Tulsa Fairgrounds\, Tulsa\, OK\, United States
CATEGORIES:Shows
END:VEVENT
BEGIN:VEVENT
DTSTART;VALUE=DATE:20180921
DTEND;VALUE=DATE:20180922
DTSTAMP:20260423T190602
CREATED:20180725T225219Z
LAST-MODIFIED:20180725T225233Z
UID:385-1537488000-1537574399@www.oklahomalimousin.com
SUMMARY:Oklahoma State Fair Open & Junior Limousin Shows
DESCRIPTION:
URL:https://www.oklahomalimousin.com/event/oklahoma-state-fair-open-junior-limousin-shows/
LOCATION:Oklahoma State Fairgrounds\, Oklahoma City\, OK\, United States
CATEGORIES:Shows
END:VEVENT
END:VCALENDAR